BEGIN:VCALENDAR
VERSION:2.0
PRODID:-//eventon.com NONSGML v1.0//EN
CALSCALE:GREGORIAN
METHOD:PUBLISH
BEGIN:VEVENT
UID:69e600158e6fd
DTSTAMP:20260420T102941Z
DTSTART:20240411T080000Z
DTEND:20240412T180000Z
LOCATION:Las Cruces Convention Center 680 E University Ave.
SUMMARY:American National CattleWomen Region VI Meeting
DESCRIPTION:Region 6 Meeting April 11th and 12th\,  2024 Las Cruces\,  NM F
 or more information &amp; event registration visit: American National Cattl
 eWomen Inc. &#8211; Region VI\nhttps://www.ckpinsurance.com/events/2024-ame
 rican-national-cattlewomen-region-vi/
URL:https://www.ckpinsurance.com/events/2024-american-national-cattlewomen-region-vi/
END:VEVENT
END:VCALENDAR